Workbook

Sheet 体检合格及拟聘用人员名单
A1: 2021年教体系统公开招聘编外教学人员（第二批次） 体检合格及拟聘用人员名单
A2: 序号 | B2: 姓名 | C2: 身份证号 | D2: 岗位号 | E2: 备注
A3: =ROW(B3)-2 -> 1 | B3: 吴婷 | C3: 513822199703141762
A4: =ROW(B4)-2 -> 2 | B4: 秦玉婷 | C4: 513822199909013248
A5: =ROW(B5)-2 -> 3 | B5: 吴佳欣 | C5: 513822200004078149
A6: =ROW(B6)-2 -> 4 | B6: 三郎斯基 | C6: 513226199404155120
A7: =ROW(B7)-2 -> 5 | B7: 向娟 | C7: 513822200208140020
A8: =ROW(B8)-2 -> 6 | B8: 胡玉微 | C8: 513437199608181128
A9: =ROW(B9)-2 -> 7 | B9: 彭薪慧 | C9: 513822199801110724
A10: =ROW(B10)-2 -> 8 | B10: 王婷 | C10: 513822199805056745
A11: =ROW(B11)-2 -> 9 | B11: 贺雯婧 | C11: 513822199412128189
A12: =ROW(B12)-2 -> 10 | B12: 顾怡春 | C12: 532128199804280721
A13: =ROW(B13)-2 -> 11 | B13: 吕馨雨 | C13: 513822200005066705
A14: =ROW(B14)-2 -> 12 | B14: 汪虹位 | C14: 513822199912280064
... A50: =ROW(B50)-2 -> 48 | B50: 胡晓凤 | C50: 51382219970916018X
A51: =ROW(B51)-2 -> 49 | B51: 雷婷 | C51: =VLOOKUP(B51,[1]报名信息!$G$2:$H$159,2,0) -> 513822199806044180
A52: =ROW(B52)-2 -> 50 | B52: 胡媛 | C52: =VLOOKUP(B52,[1]报名信息!$G$2:$H$159,2,0) -> 513822199006145960
A53: =ROW(B53)-2 -> 51 | B53: 阳李平 | C53: =VLOOKUP(B53,[1]报名信息!$G$2:$H$159,2,0) -> 513822199905157922
A54: =ROW(B54)-2 -> 52 | B54: 彭小晏 | C54: =VLOOKUP(B54,[1]报名信息!$G$2:$H$159,2,0) -> 513401199901191927
A55: =ROW(B55)-2 -> 53 | B55: 曾露 | C55: =VLOOKUP(B55,[1]报名信息!$G$2:$H$159,2,0) -> 511528199904220627
A56: =ROW(B56)-2 -> 54 | B56: 杨戌英 | C56: =VLOOKUP(B56,[1]报名信息!$G$2:$H$159,2,0) -> 51382220000120762X
A57: =ROW(B57)-2 -> 55 | B57: 刘馨 | C57: =VLOOKUP(B57,[1]报名信息!$G$2:$H$159,2,0) -> 51382219910210320X
A58: =ROW(B58)-2 -> 56 | B58: 李兴祝 | C58: =VLOOKUP(B58,[1]报名信息!$G$2:$H$159,2,0) -> 513822199806216288
A59: =ROW(B59)-2 -> 57 | B59: 高敏 | C59: =VLOOKUP(B59,[1]报名信息!$G$2:$H$159,2,0) -> 513822199603118143
A60: =ROW(B60)-2 -> 58 | B60: 杜秀敏 | C60: =VLOOKUP(B60,[1]报名信息!$G$2:$H$159,2,0) -> 513822200004111842
A61: =ROW(B61)-2 -> 59 | B61: 李思燕 | C61: =VLOOKUP(B61,[1]报名信息!$G$2:$H$159,2,0) -> 513822200008087640
A62: =ROW(B62)-2 -> 60 | B62: 张水芳 | C62: =VLOOKUP(B62,[1]报名信息!$G$2:$H$159,2,0) -> 513822200010138187
... A88: =ROW(B88)-2 -> 86 | B88: 王玲娟 | C88: =VLOOKUP(B88,[1]报名信息!$G$2:$H$159,2,0) -> 513822199504100044
